BEGIN:VCALENDAR
VERSION:2.0
PRODID:-//McWethy&#039;s Sports Bar - Bolingbrook, IL - ECPv6.15.20//NONSGML v1.0//EN
CALSCALE:GREGORIAN
METHOD:PUBLISH
X-ORIGINAL-URL:https://mcwethyssportsbar.com
X-WR-CALDESC:Events for McWethy&#039;s Sports Bar - Bolingbrook, IL
REFRESH-INTERVAL;VALUE=DURATION:PT1H
X-Robots-Tag:noindex
X-PUBLISHED-TTL:PT1H
BEGIN:VTIMEZONE
TZID:UTC
BEGIN:STANDARD
TZOFFSETFROM:+0000
TZOFFSETTO:+0000
TZNAME:UTC
DTSTART:20250101T000000
END:STANDARD
END:VTIMEZONE
BEGIN:VEVENT
DTSTART;TZID=UTC:20260505T190000
DTEND;TZID=UTC:20260505T210000
DTSTAMP:20260422T142041
CREATED:20260212T201248Z
LAST-MODIFIED:20260212T202603Z
UID:10000021-1778007600-1778014800@mcwethyssportsbar.com
SUMMARY:BINGO NIGHT
DESCRIPTION:RESERVE YOUR TABLE
URL:https://mcwethyssportsbar.com/event/bingo-night/2026-05-05/
LOCATION:McWethy’s Sports Bar\, 730 N Bolingbrook Drive\, Bolingbrook\, Illinois\, 60490\, United States
END:VEVENT
END:VCALENDAR