BEGIN:VCALENDAR
VERSION:2.0
PRODID:-//McWethy&#039;s Sports Bar - Bolingbrook, IL - ECPv6.15.20//NONSGML v1.0//EN
CALSCALE:GREGORIAN
METHOD:PUBLISH
X-WR-CALNAME:McWethy&#039;s Sports Bar - Bolingbrook, IL
X-ORIGINAL-URL:https://mcwethyssportsbar.com
X-WR-CALDESC:Events for McWethy&#039;s Sports Bar - Bolingbrook, IL
REFRESH-INTERVAL;VALUE=DURATION:PT1H
X-Robots-Tag:noindex
X-PUBLISHED-TTL:PT1H
BEGIN:VTIMEZONE
TZID:UTC
BEGIN:STANDARD
TZOFFSETFROM:+0000
TZOFFSETTO:+0000
TZNAME:UTC
DTSTART:20230101T000000
END:STANDARD
END:VTIMEZONE
BEGIN:VEVENT
DTSTART;TZID=UTC:20241225T000000
DTEND;TZID=UTC:20241225T235959
DTSTAMP:20260423T004011
CREATED:20231121T222203Z
LAST-MODIFIED:20240517T124549Z
UID:10000005-1735084800-1735171199@mcwethyssportsbar.com
SUMMARY:Christmas
DESCRIPTION:
URL:https://mcwethyssportsbar.com/event/christmas/
LOCATION:Illinois
CATEGORIES:Holidays
END:VEVENT
END:VCALENDAR