BEGIN:VCALENDAR
VERSION:2.0
PRODID:-//McWethy&#039;s Sports Bar - Bolingbrook, IL - ECPv6.15.20//NONSGML v1.0//EN
CALSCALE:GREGORIAN
METHOD:PUBLISH
X-ORIGINAL-URL:https://mcwethyssportsbar.com
X-WR-CALDESC:Events for McWethy&#039;s Sports Bar - Bolingbrook, IL
REFRESH-INTERVAL;VALUE=DURATION:PT1H
X-Robots-Tag:noindex
X-PUBLISHED-TTL:PT1H
BEGIN:VTIMEZONE
TZID:UTC
BEGIN:STANDARD
TZOFFSETFROM:+0000
TZOFFSETTO:+0000
TZNAME:UTC
DTSTART:20250101T000000
END:STANDARD
END:VTIMEZONE
BEGIN:VEVENT
DTSTART;TZID=UTC:20260415T190000
DTEND;TZID=UTC:20260415T210000
DTSTAMP:20260423T004359
CREATED:20260212T203112Z
LAST-MODIFIED:20260212T203308Z
UID:10000540-1776279600-1776286800@mcwethyssportsbar.com
SUMMARY:GENERAL KNOWLEDGE TRIVIA NIGHT
DESCRIPTION:RESERVE YOUR TABLE
URL:https://mcwethyssportsbar.com/event/general-knowledge-trivia-night/2026-04-15/
LOCATION:McWethy’s Sports Bar\, 730 N Bolingbrook Drive\, Bolingbrook\, Illinois\, 60490\, United States
END:VEVENT
BEGIN:VEVENT
DTSTART;TZID=UTC:20260421T190000
DTEND;TZID=UTC:20260421T210000
DTSTAMP:20260423T004359
CREATED:20260212T201248Z
LAST-MODIFIED:20260212T202603Z
UID:10000019-1776798000-1776805200@mcwethyssportsbar.com
SUMMARY:BINGO NIGHT
DESCRIPTION:RESERVE YOUR TABLE
URL:https://mcwethyssportsbar.com/event/bingo-night/2026-04-21/
LOCATION:McWethy’s Sports Bar\, 730 N Bolingbrook Drive\, Bolingbrook\, Illinois\, 60490\, United States
END:VEVENT
BEGIN:VEVENT
DTSTART;TZID=UTC:20260422T190000
DTEND;TZID=UTC:20260422T210000
DTSTAMP:20260423T004359
CREATED:20260212T203112Z
LAST-MODIFIED:20260212T203308Z
UID:10000541-1776884400-1776891600@mcwethyssportsbar.com
SUMMARY:GENERAL KNOWLEDGE TRIVIA NIGHT
DESCRIPTION:RESERVE YOUR TABLE
URL:https://mcwethyssportsbar.com/event/general-knowledge-trivia-night/2026-04-22/
LOCATION:McWethy’s Sports Bar\, 730 N Bolingbrook Drive\, Bolingbrook\, Illinois\, 60490\, United States
END:VEVENT
BEGIN:VEVENT
DTSTART;TZID=UTC:20260428T190000
DTEND;TZID=UTC:20260428T210000
DTSTAMP:20260423T004359
CREATED:20260212T201248Z
LAST-MODIFIED:20260212T202603Z
UID:10000020-1777402800-1777410000@mcwethyssportsbar.com
SUMMARY:BINGO NIGHT
DESCRIPTION:RESERVE YOUR TABLE
URL:https://mcwethyssportsbar.com/event/bingo-night/2026-04-28/
LOCATION:McWethy’s Sports Bar\, 730 N Bolingbrook Drive\, Bolingbrook\, Illinois\, 60490\, United States
END:VEVENT
BEGIN:VEVENT
DTSTART;TZID=UTC:20260429T190000
DTEND;TZID=UTC:20260429T210000
DTSTAMP:20260423T004359
CREATED:20260212T203112Z
LAST-MODIFIED:20260212T203308Z
UID:10000542-1777489200-1777496400@mcwethyssportsbar.com
SUMMARY:GENERAL KNOWLEDGE TRIVIA NIGHT
DESCRIPTION:RESERVE YOUR TABLE
URL:https://mcwethyssportsbar.com/event/general-knowledge-trivia-night/2026-04-29/
LOCATION:McWethy’s Sports Bar\, 730 N Bolingbrook Drive\, Bolingbrook\, Illinois\, 60490\, United States
END:VEVENT
BEGIN:VEVENT
DTSTART;TZID=UTC:20260505T190000
DTEND;TZID=UTC:20260505T210000
DTSTAMP:20260423T004359
CREATED:20260212T201248Z
LAST-MODIFIED:20260212T202603Z
UID:10000021-1778007600-1778014800@mcwethyssportsbar.com
SUMMARY:BINGO NIGHT
DESCRIPTION:RESERVE YOUR TABLE
URL:https://mcwethyssportsbar.com/event/bingo-night/2026-05-05/
LOCATION:McWethy’s Sports Bar\, 730 N Bolingbrook Drive\, Bolingbrook\, Illinois\, 60490\, United States
END:VEVENT
BEGIN:VEVENT
DTSTART;TZID=UTC:20260506T190000
DTEND;TZID=UTC:20260506T210000
DTSTAMP:20260423T004359
CREATED:20260212T203112Z
LAST-MODIFIED:20260212T203308Z
UID:10000543-1778094000-1778101200@mcwethyssportsbar.com
SUMMARY:GENERAL KNOWLEDGE TRIVIA NIGHT
DESCRIPTION:RESERVE YOUR TABLE
URL:https://mcwethyssportsbar.com/event/general-knowledge-trivia-night/2026-05-06/
LOCATION:McWethy’s Sports Bar\, 730 N Bolingbrook Drive\, Bolingbrook\, Illinois\, 60490\, United States
END:VEVENT
BEGIN:VEVENT
DTSTART;TZID=UTC:20260512T190000
DTEND;TZID=UTC:20260512T210000
DTSTAMP:20260423T004359
CREATED:20260212T201248Z
LAST-MODIFIED:20260212T202603Z
UID:10000022-1778612400-1778619600@mcwethyssportsbar.com
SUMMARY:BINGO NIGHT
DESCRIPTION:RESERVE YOUR TABLE
URL:https://mcwethyssportsbar.com/event/bingo-night/2026-05-12/
LOCATION:McWethy’s Sports Bar\, 730 N Bolingbrook Drive\, Bolingbrook\, Illinois\, 60490\, United States
END:VEVENT
BEGIN:VEVENT
DTSTART;TZID=UTC:20260513T190000
DTEND;TZID=UTC:20260513T210000
DTSTAMP:20260423T004359
CREATED:20260212T203112Z
LAST-MODIFIED:20260212T203308Z
UID:10000544-1778698800-1778706000@mcwethyssportsbar.com
SUMMARY:GENERAL KNOWLEDGE TRIVIA NIGHT
DESCRIPTION:RESERVE YOUR TABLE
URL:https://mcwethyssportsbar.com/event/general-knowledge-trivia-night/2026-05-13/
LOCATION:McWethy’s Sports Bar\, 730 N Bolingbrook Drive\, Bolingbrook\, Illinois\, 60490\, United States
END:VEVENT
BEGIN:VEVENT
DTSTART;TZID=UTC:20260519T190000
DTEND;TZID=UTC:20260519T210000
DTSTAMP:20260423T004359
CREATED:20260212T201248Z
LAST-MODIFIED:20260212T202603Z
UID:10000023-1779217200-1779224400@mcwethyssportsbar.com
SUMMARY:BINGO NIGHT
DESCRIPTION:RESERVE YOUR TABLE
URL:https://mcwethyssportsbar.com/event/bingo-night/2026-05-19/
LOCATION:McWethy’s Sports Bar\, 730 N Bolingbrook Drive\, Bolingbrook\, Illinois\, 60490\, United States
END:VEVENT
BEGIN:VEVENT
DTSTART;TZID=UTC:20260520T190000
DTEND;TZID=UTC:20260520T210000
DTSTAMP:20260423T004359
CREATED:20260212T203112Z
LAST-MODIFIED:20260212T203308Z
UID:10000545-1779303600-1779310800@mcwethyssportsbar.com
SUMMARY:GENERAL KNOWLEDGE TRIVIA NIGHT
DESCRIPTION:RESERVE YOUR TABLE
URL:https://mcwethyssportsbar.com/event/general-knowledge-trivia-night/2026-05-20/
LOCATION:McWethy’s Sports Bar\, 730 N Bolingbrook Drive\, Bolingbrook\, Illinois\, 60490\, United States
END:VEVENT
BEGIN:VEVENT
DTSTART;TZID=UTC:20260526T190000
DTEND;TZID=UTC:20260526T210000
DTSTAMP:20260423T004359
CREATED:20260212T201248Z
LAST-MODIFIED:20260212T202603Z
UID:10000024-1779822000-1779829200@mcwethyssportsbar.com
SUMMARY:BINGO NIGHT
DESCRIPTION:RESERVE YOUR TABLE
URL:https://mcwethyssportsbar.com/event/bingo-night/2026-05-26/
LOCATION:McWethy’s Sports Bar\, 730 N Bolingbrook Drive\, Bolingbrook\, Illinois\, 60490\, United States
END:VEVENT
BEGIN:VEVENT
DTSTART;TZID=UTC:20260527T190000
DTEND;TZID=UTC:20260527T210000
DTSTAMP:20260423T004359
CREATED:20260212T203112Z
LAST-MODIFIED:20260212T203308Z
UID:10000546-1779908400-1779915600@mcwethyssportsbar.com
SUMMARY:GENERAL KNOWLEDGE TRIVIA NIGHT
DESCRIPTION:RESERVE YOUR TABLE
URL:https://mcwethyssportsbar.com/event/general-knowledge-trivia-night/2026-05-27/
LOCATION:McWethy’s Sports Bar\, 730 N Bolingbrook Drive\, Bolingbrook\, Illinois\, 60490\, United States
END:VEVENT
BEGIN:VEVENT
DTSTART;TZID=UTC:20260602T190000
DTEND;TZID=UTC:20260602T210000
DTSTAMP:20260423T004359
CREATED:20260212T201248Z
LAST-MODIFIED:20260212T202603Z
UID:10000025-1780426800-1780434000@mcwethyssportsbar.com
SUMMARY:BINGO NIGHT
DESCRIPTION:RESERVE YOUR TABLE
URL:https://mcwethyssportsbar.com/event/bingo-night/2026-06-02/
LOCATION:McWethy’s Sports Bar\, 730 N Bolingbrook Drive\, Bolingbrook\, Illinois\, 60490\, United States
END:VEVENT
BEGIN:VEVENT
DTSTART;TZID=UTC:20260603T190000
DTEND;TZID=UTC:20260603T210000
DTSTAMP:20260423T004359
CREATED:20260212T203112Z
LAST-MODIFIED:20260212T203308Z
UID:10000547-1780513200-1780520400@mcwethyssportsbar.com
SUMMARY:GENERAL KNOWLEDGE TRIVIA NIGHT
DESCRIPTION:RESERVE YOUR TABLE
URL:https://mcwethyssportsbar.com/event/general-knowledge-trivia-night/2026-06-03/
LOCATION:McWethy’s Sports Bar\, 730 N Bolingbrook Drive\, Bolingbrook\, Illinois\, 60490\, United States
END:VEVENT
BEGIN:VEVENT
DTSTART;TZID=UTC:20260609T190000
DTEND;TZID=UTC:20260609T210000
DTSTAMP:20260423T004359
CREATED:20260212T201248Z
LAST-MODIFIED:20260212T202603Z
UID:10000026-1781031600-1781038800@mcwethyssportsbar.com
SUMMARY:BINGO NIGHT
DESCRIPTION:RESERVE YOUR TABLE
URL:https://mcwethyssportsbar.com/event/bingo-night/2026-06-09/
LOCATION:McWethy’s Sports Bar\, 730 N Bolingbrook Drive\, Bolingbrook\, Illinois\, 60490\, United States
END:VEVENT
BEGIN:VEVENT
DTSTART;TZID=UTC:20260610T190000
DTEND;TZID=UTC:20260610T210000
DTSTAMP:20260423T004359
CREATED:20260212T203112Z
LAST-MODIFIED:20260212T203308Z
UID:10000548-1781118000-1781125200@mcwethyssportsbar.com
SUMMARY:GENERAL KNOWLEDGE TRIVIA NIGHT
DESCRIPTION:RESERVE YOUR TABLE
URL:https://mcwethyssportsbar.com/event/general-knowledge-trivia-night/2026-06-10/
LOCATION:McWethy’s Sports Bar\, 730 N Bolingbrook Drive\, Bolingbrook\, Illinois\, 60490\, United States
END:VEVENT
BEGIN:VEVENT
DTSTART;TZID=UTC:20260616T190000
DTEND;TZID=UTC:20260616T210000
DTSTAMP:20260423T004359
CREATED:20260212T201248Z
LAST-MODIFIED:20260212T202603Z
UID:10000027-1781636400-1781643600@mcwethyssportsbar.com
SUMMARY:BINGO NIGHT
DESCRIPTION:RESERVE YOUR TABLE
URL:https://mcwethyssportsbar.com/event/bingo-night/2026-06-16/
LOCATION:McWethy’s Sports Bar\, 730 N Bolingbrook Drive\, Bolingbrook\, Illinois\, 60490\, United States
END:VEVENT
BEGIN:VEVENT
DTSTART;TZID=UTC:20260617T190000
DTEND;TZID=UTC:20260617T210000
DTSTAMP:20260423T004359
CREATED:20260212T203112Z
LAST-MODIFIED:20260212T203308Z
UID:10000549-1781722800-1781730000@mcwethyssportsbar.com
SUMMARY:GENERAL KNOWLEDGE TRIVIA NIGHT
DESCRIPTION:RESERVE YOUR TABLE
URL:https://mcwethyssportsbar.com/event/general-knowledge-trivia-night/2026-06-17/
LOCATION:McWethy’s Sports Bar\, 730 N Bolingbrook Drive\, Bolingbrook\, Illinois\, 60490\, United States
END:VEVENT
BEGIN:VEVENT
DTSTART;TZID=UTC:20260623T190000
DTEND;TZID=UTC:20260623T210000
DTSTAMP:20260423T004359
CREATED:20260212T201248Z
LAST-MODIFIED:20260212T202603Z
UID:10000028-1782241200-1782248400@mcwethyssportsbar.com
SUMMARY:BINGO NIGHT
DESCRIPTION:RESERVE YOUR TABLE
URL:https://mcwethyssportsbar.com/event/bingo-night/2026-06-23/
LOCATION:McWethy’s Sports Bar\, 730 N Bolingbrook Drive\, Bolingbrook\, Illinois\, 60490\, United States
END:VEVENT
BEGIN:VEVENT
DTSTART;TZID=UTC:20260624T190000
DTEND;TZID=UTC:20260624T210000
DTSTAMP:20260423T004359
CREATED:20260212T203112Z
LAST-MODIFIED:20260212T203308Z
UID:10000550-1782327600-1782334800@mcwethyssportsbar.com
SUMMARY:GENERAL KNOWLEDGE TRIVIA NIGHT
DESCRIPTION:RESERVE YOUR TABLE
URL:https://mcwethyssportsbar.com/event/general-knowledge-trivia-night/2026-06-24/
LOCATION:McWethy’s Sports Bar\, 730 N Bolingbrook Drive\, Bolingbrook\, Illinois\, 60490\, United States
END:VEVENT
BEGIN:VEVENT
DTSTART;TZID=UTC:20260630T190000
DTEND;TZID=UTC:20260630T210000
DTSTAMP:20260423T004359
CREATED:20260212T201248Z
LAST-MODIFIED:20260212T202603Z
UID:10000029-1782846000-1782853200@mcwethyssportsbar.com
SUMMARY:BINGO NIGHT
DESCRIPTION:RESERVE YOUR TABLE
URL:https://mcwethyssportsbar.com/event/bingo-night/2026-06-30/
LOCATION:McWethy’s Sports Bar\, 730 N Bolingbrook Drive\, Bolingbrook\, Illinois\, 60490\, United States
END:VEVENT
BEGIN:VEVENT
DTSTART;TZID=UTC:20260701T190000
DTEND;TZID=UTC:20260701T210000
DTSTAMP:20260423T004359
CREATED:20260212T203112Z
LAST-MODIFIED:20260212T203308Z
UID:10000551-1782932400-1782939600@mcwethyssportsbar.com
SUMMARY:GENERAL KNOWLEDGE TRIVIA NIGHT
DESCRIPTION:RESERVE YOUR TABLE
URL:https://mcwethyssportsbar.com/event/general-knowledge-trivia-night/2026-07-01/
LOCATION:McWethy’s Sports Bar\, 730 N Bolingbrook Drive\, Bolingbrook\, Illinois\, 60490\, United States
END:VEVENT
BEGIN:VEVENT
DTSTART;TZID=UTC:20260707T190000
DTEND;TZID=UTC:20260707T210000
DTSTAMP:20260423T004359
CREATED:20260212T201248Z
LAST-MODIFIED:20260212T202603Z
UID:10000030-1783450800-1783458000@mcwethyssportsbar.com
SUMMARY:BINGO NIGHT
DESCRIPTION:RESERVE YOUR TABLE
URL:https://mcwethyssportsbar.com/event/bingo-night/2026-07-07/
LOCATION:McWethy’s Sports Bar\, 730 N Bolingbrook Drive\, Bolingbrook\, Illinois\, 60490\, United States
END:VEVENT
BEGIN:VEVENT
DTSTART;TZID=UTC:20260708T190000
DTEND;TZID=UTC:20260708T210000
DTSTAMP:20260423T004359
CREATED:20260212T203112Z
LAST-MODIFIED:20260212T203308Z
UID:10000552-1783537200-1783544400@mcwethyssportsbar.com
SUMMARY:GENERAL KNOWLEDGE TRIVIA NIGHT
DESCRIPTION:RESERVE YOUR TABLE
URL:https://mcwethyssportsbar.com/event/general-knowledge-trivia-night/2026-07-08/
LOCATION:McWethy’s Sports Bar\, 730 N Bolingbrook Drive\, Bolingbrook\, Illinois\, 60490\, United States
END:VEVENT
BEGIN:VEVENT
DTSTART;TZID=UTC:20260714T190000
DTEND;TZID=UTC:20260714T210000
DTSTAMP:20260423T004359
CREATED:20260212T201248Z
LAST-MODIFIED:20260212T202603Z
UID:10000031-1784055600-1784062800@mcwethyssportsbar.com
SUMMARY:BINGO NIGHT
DESCRIPTION:RESERVE YOUR TABLE
URL:https://mcwethyssportsbar.com/event/bingo-night/2026-07-14/
LOCATION:McWethy’s Sports Bar\, 730 N Bolingbrook Drive\, Bolingbrook\, Illinois\, 60490\, United States
END:VEVENT
BEGIN:VEVENT
DTSTART;TZID=UTC:20260715T190000
DTEND;TZID=UTC:20260715T210000
DTSTAMP:20260423T004359
CREATED:20260212T203112Z
LAST-MODIFIED:20260212T203308Z
UID:10000553-1784142000-1784149200@mcwethyssportsbar.com
SUMMARY:GENERAL KNOWLEDGE TRIVIA NIGHT
DESCRIPTION:RESERVE YOUR TABLE
URL:https://mcwethyssportsbar.com/event/general-knowledge-trivia-night/2026-07-15/
LOCATION:McWethy’s Sports Bar\, 730 N Bolingbrook Drive\, Bolingbrook\, Illinois\, 60490\, United States
END:VEVENT
BEGIN:VEVENT
DTSTART;TZID=UTC:20260721T190000
DTEND;TZID=UTC:20260721T210000
DTSTAMP:20260423T004359
CREATED:20260212T201248Z
LAST-MODIFIED:20260212T202603Z
UID:10000032-1784660400-1784667600@mcwethyssportsbar.com
SUMMARY:BINGO NIGHT
DESCRIPTION:RESERVE YOUR TABLE
URL:https://mcwethyssportsbar.com/event/bingo-night/2026-07-21/
LOCATION:McWethy’s Sports Bar\, 730 N Bolingbrook Drive\, Bolingbrook\, Illinois\, 60490\, United States
END:VEVENT
BEGIN:VEVENT
DTSTART;TZID=UTC:20260722T190000
DTEND;TZID=UTC:20260722T210000
DTSTAMP:20260423T004359
CREATED:20260212T203112Z
LAST-MODIFIED:20260212T203308Z
UID:10000554-1784746800-1784754000@mcwethyssportsbar.com
SUMMARY:GENERAL KNOWLEDGE TRIVIA NIGHT
DESCRIPTION:RESERVE YOUR TABLE
URL:https://mcwethyssportsbar.com/event/general-knowledge-trivia-night/2026-07-22/
LOCATION:McWethy’s Sports Bar\, 730 N Bolingbrook Drive\, Bolingbrook\, Illinois\, 60490\, United States
END:VEVENT
BEGIN:VEVENT
DTSTART;TZID=UTC:20260728T190000
DTEND;TZID=UTC:20260728T210000
DTSTAMP:20260423T004359
CREATED:20260212T201248Z
LAST-MODIFIED:20260212T202603Z
UID:10000033-1785265200-1785272400@mcwethyssportsbar.com
SUMMARY:BINGO NIGHT
DESCRIPTION:RESERVE YOUR TABLE
URL:https://mcwethyssportsbar.com/event/bingo-night/2026-07-28/
LOCATION:McWethy’s Sports Bar\, 730 N Bolingbrook Drive\, Bolingbrook\, Illinois\, 60490\, United States
END:VEVENT
END:VCALENDAR