BEGIN:VCALENDAR
VERSION:2.0
PRODID:-//McWethy&#039;s Sports Bar - Bolingbrook, IL - ECPv6.15.20//NONSGML v1.0//EN
CALSCALE:GREGORIAN
METHOD:PUBLISH
X-ORIGINAL-URL:https://mcwethyssportsbar.com
X-WR-CALDESC:Events for McWethy&#039;s Sports Bar - Bolingbrook, IL
REFRESH-INTERVAL;VALUE=DURATION:PT1H
X-Robots-Tag:noindex
X-PUBLISHED-TTL:PT1H
BEGIN:VTIMEZONE
TZID:UTC
BEGIN:STANDARD
TZOFFSETFROM:+0000
TZOFFSETTO:+0000
TZNAME:UTC
DTSTART:20260101T000000
END:STANDARD
END:VTIMEZONE
BEGIN:VEVENT
DTSTART;TZID=UTC:20270105T190000
DTEND;TZID=UTC:20270105T210000
DTSTAMP:20260423T041450
CREATED:20260212T201248Z
LAST-MODIFIED:20260212T202603Z
UID:10000056-1799175600-1799182800@mcwethyssportsbar.com
SUMMARY:BINGO NIGHT
DESCRIPTION:RESERVE YOUR TABLE
URL:https://mcwethyssportsbar.com/event/bingo-night/2027-01-05/
LOCATION:McWethy’s Sports Bar\, 730 N Bolingbrook Drive\, Bolingbrook\, Illinois\, 60490\, United States
END:VEVENT
BEGIN:VEVENT
DTSTART;TZID=UTC:20270106T190000
DTEND;TZID=UTC:20270106T210000
DTSTAMP:20260423T041450
CREATED:20260212T203112Z
LAST-MODIFIED:20260212T203308Z
UID:10000578-1799262000-1799269200@mcwethyssportsbar.com
SUMMARY:GENERAL KNOWLEDGE TRIVIA NIGHT
DESCRIPTION:RESERVE YOUR TABLE
URL:https://mcwethyssportsbar.com/event/general-knowledge-trivia-night/2027-01-06/
LOCATION:McWethy’s Sports Bar\, 730 N Bolingbrook Drive\, Bolingbrook\, Illinois\, 60490\, United States
END:VEVENT
BEGIN:VEVENT
DTSTART;TZID=UTC:20270112T190000
DTEND;TZID=UTC:20270112T210000
DTSTAMP:20260423T041450
CREATED:20260212T201248Z
LAST-MODIFIED:20260212T202603Z
UID:10000057-1799780400-1799787600@mcwethyssportsbar.com
SUMMARY:BINGO NIGHT
DESCRIPTION:RESERVE YOUR TABLE
URL:https://mcwethyssportsbar.com/event/bingo-night/2027-01-12/
LOCATION:McWethy’s Sports Bar\, 730 N Bolingbrook Drive\, Bolingbrook\, Illinois\, 60490\, United States
END:VEVENT
BEGIN:VEVENT
DTSTART;TZID=UTC:20270113T190000
DTEND;TZID=UTC:20270113T210000
DTSTAMP:20260423T041450
CREATED:20260212T203112Z
LAST-MODIFIED:20260212T203308Z
UID:10000579-1799866800-1799874000@mcwethyssportsbar.com
SUMMARY:GENERAL KNOWLEDGE TRIVIA NIGHT
DESCRIPTION:RESERVE YOUR TABLE
URL:https://mcwethyssportsbar.com/event/general-knowledge-trivia-night/2027-01-13/
LOCATION:McWethy’s Sports Bar\, 730 N Bolingbrook Drive\, Bolingbrook\, Illinois\, 60490\, United States
END:VEVENT
BEGIN:VEVENT
DTSTART;TZID=UTC:20270119T190000
DTEND;TZID=UTC:20270119T210000
DTSTAMP:20260423T041450
CREATED:20260212T201248Z
LAST-MODIFIED:20260212T202603Z
UID:10000058-1800385200-1800392400@mcwethyssportsbar.com
SUMMARY:BINGO NIGHT
DESCRIPTION:RESERVE YOUR TABLE
URL:https://mcwethyssportsbar.com/event/bingo-night/2027-01-19/
LOCATION:McWethy’s Sports Bar\, 730 N Bolingbrook Drive\, Bolingbrook\, Illinois\, 60490\, United States
END:VEVENT
BEGIN:VEVENT
DTSTART;TZID=UTC:20270120T190000
DTEND;TZID=UTC:20270120T210000
DTSTAMP:20260423T041450
CREATED:20260212T203112Z
LAST-MODIFIED:20260212T203308Z
UID:10000580-1800471600-1800478800@mcwethyssportsbar.com
SUMMARY:GENERAL KNOWLEDGE TRIVIA NIGHT
DESCRIPTION:RESERVE YOUR TABLE
URL:https://mcwethyssportsbar.com/event/general-knowledge-trivia-night/2027-01-20/
LOCATION:McWethy’s Sports Bar\, 730 N Bolingbrook Drive\, Bolingbrook\, Illinois\, 60490\, United States
END:VEVENT
BEGIN:VEVENT
DTSTART;TZID=UTC:20270126T190000
DTEND;TZID=UTC:20270126T210000
DTSTAMP:20260423T041450
CREATED:20260212T201248Z
LAST-MODIFIED:20260212T202603Z
UID:10000059-1800990000-1800997200@mcwethyssportsbar.com
SUMMARY:BINGO NIGHT
DESCRIPTION:RESERVE YOUR TABLE
URL:https://mcwethyssportsbar.com/event/bingo-night/2027-01-26/
LOCATION:McWethy’s Sports Bar\, 730 N Bolingbrook Drive\, Bolingbrook\, Illinois\, 60490\, United States
END:VEVENT
BEGIN:VEVENT
DTSTART;TZID=UTC:20270127T190000
DTEND;TZID=UTC:20270127T210000
DTSTAMP:20260423T041450
CREATED:20260212T203112Z
LAST-MODIFIED:20260212T203308Z
UID:10000581-1801076400-1801083600@mcwethyssportsbar.com
SUMMARY:GENERAL KNOWLEDGE TRIVIA NIGHT
DESCRIPTION:RESERVE YOUR TABLE
URL:https://mcwethyssportsbar.com/event/general-knowledge-trivia-night/2027-01-27/
LOCATION:McWethy’s Sports Bar\, 730 N Bolingbrook Drive\, Bolingbrook\, Illinois\, 60490\, United States
END:VEVENT
BEGIN:VEVENT
DTSTART;TZID=UTC:20270202T190000
DTEND;TZID=UTC:20270202T210000
DTSTAMP:20260423T041450
CREATED:20260212T201248Z
LAST-MODIFIED:20260212T202603Z
UID:10000060-1801594800-1801602000@mcwethyssportsbar.com
SUMMARY:BINGO NIGHT
DESCRIPTION:RESERVE YOUR TABLE
URL:https://mcwethyssportsbar.com/event/bingo-night/2027-02-02/
LOCATION:McWethy’s Sports Bar\, 730 N Bolingbrook Drive\, Bolingbrook\, Illinois\, 60490\, United States
END:VEVENT
BEGIN:VEVENT
DTSTART;TZID=UTC:20270203T190000
DTEND;TZID=UTC:20270203T210000
DTSTAMP:20260423T041450
CREATED:20260212T203112Z
LAST-MODIFIED:20260212T203308Z
UID:10000582-1801681200-1801688400@mcwethyssportsbar.com
SUMMARY:GENERAL KNOWLEDGE TRIVIA NIGHT
DESCRIPTION:RESERVE YOUR TABLE
URL:https://mcwethyssportsbar.com/event/general-knowledge-trivia-night/2027-02-03/
LOCATION:McWethy’s Sports Bar\, 730 N Bolingbrook Drive\, Bolingbrook\, Illinois\, 60490\, United States
END:VEVENT
BEGIN:VEVENT
DTSTART;TZID=UTC:20270209T190000
DTEND;TZID=UTC:20270209T210000
DTSTAMP:20260423T041450
CREATED:20260212T201248Z
LAST-MODIFIED:20260212T202603Z
UID:10000061-1802199600-1802206800@mcwethyssportsbar.com
SUMMARY:BINGO NIGHT
DESCRIPTION:RESERVE YOUR TABLE
URL:https://mcwethyssportsbar.com/event/bingo-night/2027-02-09/
LOCATION:McWethy’s Sports Bar\, 730 N Bolingbrook Drive\, Bolingbrook\, Illinois\, 60490\, United States
END:VEVENT
BEGIN:VEVENT
DTSTART;TZID=UTC:20270210T190000
DTEND;TZID=UTC:20270210T210000
DTSTAMP:20260423T041450
CREATED:20260212T203112Z
LAST-MODIFIED:20260212T203308Z
UID:10000583-1802286000-1802293200@mcwethyssportsbar.com
SUMMARY:GENERAL KNOWLEDGE TRIVIA NIGHT
DESCRIPTION:RESERVE YOUR TABLE
URL:https://mcwethyssportsbar.com/event/general-knowledge-trivia-night/2027-02-10/
LOCATION:McWethy’s Sports Bar\, 730 N Bolingbrook Drive\, Bolingbrook\, Illinois\, 60490\, United States
END:VEVENT
BEGIN:VEVENT
DTSTART;TZID=UTC:20270216T190000
DTEND;TZID=UTC:20270216T210000
DTSTAMP:20260423T041450
CREATED:20260212T201248Z
LAST-MODIFIED:20260212T202603Z
UID:10000062-1802804400-1802811600@mcwethyssportsbar.com
SUMMARY:BINGO NIGHT
DESCRIPTION:RESERVE YOUR TABLE
URL:https://mcwethyssportsbar.com/event/bingo-night/2027-02-16/
LOCATION:McWethy’s Sports Bar\, 730 N Bolingbrook Drive\, Bolingbrook\, Illinois\, 60490\, United States
END:VEVENT
BEGIN:VEVENT
DTSTART;TZID=UTC:20270217T190000
DTEND;TZID=UTC:20270217T210000
DTSTAMP:20260423T041450
CREATED:20260212T203112Z
LAST-MODIFIED:20260212T203308Z
UID:10000584-1802890800-1802898000@mcwethyssportsbar.com
SUMMARY:GENERAL KNOWLEDGE TRIVIA NIGHT
DESCRIPTION:RESERVE YOUR TABLE
URL:https://mcwethyssportsbar.com/event/general-knowledge-trivia-night/2027-02-17/
LOCATION:McWethy’s Sports Bar\, 730 N Bolingbrook Drive\, Bolingbrook\, Illinois\, 60490\, United States
END:VEVENT
BEGIN:VEVENT
DTSTART;TZID=UTC:20270223T190000
DTEND;TZID=UTC:20270223T210000
DTSTAMP:20260423T041450
CREATED:20260212T201248Z
LAST-MODIFIED:20260212T202603Z
UID:10000063-1803409200-1803416400@mcwethyssportsbar.com
SUMMARY:BINGO NIGHT
DESCRIPTION:RESERVE YOUR TABLE
URL:https://mcwethyssportsbar.com/event/bingo-night/2027-02-23/
LOCATION:McWethy’s Sports Bar\, 730 N Bolingbrook Drive\, Bolingbrook\, Illinois\, 60490\, United States
END:VEVENT
BEGIN:VEVENT
DTSTART;TZID=UTC:20270224T190000
DTEND;TZID=UTC:20270224T210000
DTSTAMP:20260423T041450
CREATED:20260212T203112Z
LAST-MODIFIED:20260212T203308Z
UID:10000585-1803495600-1803502800@mcwethyssportsbar.com
SUMMARY:GENERAL KNOWLEDGE TRIVIA NIGHT
DESCRIPTION:RESERVE YOUR TABLE
URL:https://mcwethyssportsbar.com/event/general-knowledge-trivia-night/2027-02-24/
LOCATION:McWethy’s Sports Bar\, 730 N Bolingbrook Drive\, Bolingbrook\, Illinois\, 60490\, United States
END:VEVENT
BEGIN:VEVENT
DTSTART;TZID=UTC:20270302T190000
DTEND;TZID=UTC:20270302T210000
DTSTAMP:20260423T041450
CREATED:20260212T201248Z
LAST-MODIFIED:20260212T202603Z
UID:10000064-1804014000-1804021200@mcwethyssportsbar.com
SUMMARY:BINGO NIGHT
DESCRIPTION:RESERVE YOUR TABLE
URL:https://mcwethyssportsbar.com/event/bingo-night/2027-03-02/
LOCATION:McWethy’s Sports Bar\, 730 N Bolingbrook Drive\, Bolingbrook\, Illinois\, 60490\, United States
END:VEVENT
BEGIN:VEVENT
DTSTART;TZID=UTC:20270303T190000
DTEND;TZID=UTC:20270303T210000
DTSTAMP:20260423T041450
CREATED:20260212T203112Z
LAST-MODIFIED:20260212T203308Z
UID:10000586-1804100400-1804107600@mcwethyssportsbar.com
SUMMARY:GENERAL KNOWLEDGE TRIVIA NIGHT
DESCRIPTION:RESERVE YOUR TABLE
URL:https://mcwethyssportsbar.com/event/general-knowledge-trivia-night/2027-03-03/
LOCATION:McWethy’s Sports Bar\, 730 N Bolingbrook Drive\, Bolingbrook\, Illinois\, 60490\, United States
END:VEVENT
BEGIN:VEVENT
DTSTART;TZID=UTC:20270309T190000
DTEND;TZID=UTC:20270309T210000
DTSTAMP:20260423T041450
CREATED:20260212T201248Z
LAST-MODIFIED:20260212T202603Z
UID:10000065-1804618800-1804626000@mcwethyssportsbar.com
SUMMARY:BINGO NIGHT
DESCRIPTION:RESERVE YOUR TABLE
URL:https://mcwethyssportsbar.com/event/bingo-night/2027-03-09/
LOCATION:McWethy’s Sports Bar\, 730 N Bolingbrook Drive\, Bolingbrook\, Illinois\, 60490\, United States
END:VEVENT
BEGIN:VEVENT
DTSTART;TZID=UTC:20270310T190000
DTEND;TZID=UTC:20270310T210000
DTSTAMP:20260423T041450
CREATED:20260212T203112Z
LAST-MODIFIED:20260212T203308Z
UID:10000587-1804705200-1804712400@mcwethyssportsbar.com
SUMMARY:GENERAL KNOWLEDGE TRIVIA NIGHT
DESCRIPTION:RESERVE YOUR TABLE
URL:https://mcwethyssportsbar.com/event/general-knowledge-trivia-night/2027-03-10/
LOCATION:McWethy’s Sports Bar\, 730 N Bolingbrook Drive\, Bolingbrook\, Illinois\, 60490\, United States
END:VEVENT
BEGIN:VEVENT
DTSTART;TZID=UTC:20270316T190000
DTEND;TZID=UTC:20270316T210000
DTSTAMP:20260423T041450
CREATED:20260212T201248Z
LAST-MODIFIED:20260212T202603Z
UID:10000066-1805223600-1805230800@mcwethyssportsbar.com
SUMMARY:BINGO NIGHT
DESCRIPTION:RESERVE YOUR TABLE
URL:https://mcwethyssportsbar.com/event/bingo-night/2027-03-16/
LOCATION:McWethy’s Sports Bar\, 730 N Bolingbrook Drive\, Bolingbrook\, Illinois\, 60490\, United States
END:VEVENT
BEGIN:VEVENT
DTSTART;TZID=UTC:20270317T190000
DTEND;TZID=UTC:20270317T210000
DTSTAMP:20260423T041450
CREATED:20260212T203112Z
LAST-MODIFIED:20260212T203308Z
UID:10000588-1805310000-1805317200@mcwethyssportsbar.com
SUMMARY:GENERAL KNOWLEDGE TRIVIA NIGHT
DESCRIPTION:RESERVE YOUR TABLE
URL:https://mcwethyssportsbar.com/event/general-knowledge-trivia-night/2027-03-17/
LOCATION:McWethy’s Sports Bar\, 730 N Bolingbrook Drive\, Bolingbrook\, Illinois\, 60490\, United States
END:VEVENT
BEGIN:VEVENT
DTSTART;TZID=UTC:20270323T190000
DTEND;TZID=UTC:20270323T210000
DTSTAMP:20260423T041450
CREATED:20260212T201248Z
LAST-MODIFIED:20260212T202603Z
UID:10000067-1805828400-1805835600@mcwethyssportsbar.com
SUMMARY:BINGO NIGHT
DESCRIPTION:RESERVE YOUR TABLE
URL:https://mcwethyssportsbar.com/event/bingo-night/2027-03-23/
LOCATION:McWethy’s Sports Bar\, 730 N Bolingbrook Drive\, Bolingbrook\, Illinois\, 60490\, United States
END:VEVENT
BEGIN:VEVENT
DTSTART;TZID=UTC:20270324T190000
DTEND;TZID=UTC:20270324T210000
DTSTAMP:20260423T041450
CREATED:20260212T203112Z
LAST-MODIFIED:20260212T203308Z
UID:10000589-1805914800-1805922000@mcwethyssportsbar.com
SUMMARY:GENERAL KNOWLEDGE TRIVIA NIGHT
DESCRIPTION:RESERVE YOUR TABLE
URL:https://mcwethyssportsbar.com/event/general-knowledge-trivia-night/2027-03-24/
LOCATION:McWethy’s Sports Bar\, 730 N Bolingbrook Drive\, Bolingbrook\, Illinois\, 60490\, United States
END:VEVENT
BEGIN:VEVENT
DTSTART;TZID=UTC:20270330T190000
DTEND;TZID=UTC:20270330T210000
DTSTAMP:20260423T041450
CREATED:20260212T201248Z
LAST-MODIFIED:20260212T202603Z
UID:10000068-1806433200-1806440400@mcwethyssportsbar.com
SUMMARY:BINGO NIGHT
DESCRIPTION:RESERVE YOUR TABLE
URL:https://mcwethyssportsbar.com/event/bingo-night/2027-03-30/
LOCATION:McWethy’s Sports Bar\, 730 N Bolingbrook Drive\, Bolingbrook\, Illinois\, 60490\, United States
END:VEVENT
BEGIN:VEVENT
DTSTART;TZID=UTC:20270331T190000
DTEND;TZID=UTC:20270331T210000
DTSTAMP:20260423T041450
CREATED:20260212T203112Z
LAST-MODIFIED:20260212T203308Z
UID:10000590-1806519600-1806526800@mcwethyssportsbar.com
SUMMARY:GENERAL KNOWLEDGE TRIVIA NIGHT
DESCRIPTION:RESERVE YOUR TABLE
URL:https://mcwethyssportsbar.com/event/general-knowledge-trivia-night/2027-03-31/
LOCATION:McWethy’s Sports Bar\, 730 N Bolingbrook Drive\, Bolingbrook\, Illinois\, 60490\, United States
END:VEVENT
BEGIN:VEVENT
DTSTART;TZID=UTC:20270406T190000
DTEND;TZID=UTC:20270406T210000
DTSTAMP:20260423T041450
CREATED:20260212T201248Z
LAST-MODIFIED:20260212T202603Z
UID:10000069-1807038000-1807045200@mcwethyssportsbar.com
SUMMARY:BINGO NIGHT
DESCRIPTION:RESERVE YOUR TABLE
URL:https://mcwethyssportsbar.com/event/bingo-night/2027-04-06/
LOCATION:McWethy’s Sports Bar\, 730 N Bolingbrook Drive\, Bolingbrook\, Illinois\, 60490\, United States
END:VEVENT
BEGIN:VEVENT
DTSTART;TZID=UTC:20270407T190000
DTEND;TZID=UTC:20270407T210000
DTSTAMP:20260423T041450
CREATED:20260212T203112Z
LAST-MODIFIED:20260212T203308Z
UID:10000591-1807124400-1807131600@mcwethyssportsbar.com
SUMMARY:GENERAL KNOWLEDGE TRIVIA NIGHT
DESCRIPTION:RESERVE YOUR TABLE
URL:https://mcwethyssportsbar.com/event/general-knowledge-trivia-night/2027-04-07/
LOCATION:McWethy’s Sports Bar\, 730 N Bolingbrook Drive\, Bolingbrook\, Illinois\, 60490\, United States
END:VEVENT
BEGIN:VEVENT
DTSTART;TZID=UTC:20270413T190000
DTEND;TZID=UTC:20270413T210000
DTSTAMP:20260423T041450
CREATED:20260212T201248Z
LAST-MODIFIED:20260212T202603Z
UID:10000070-1807642800-1807650000@mcwethyssportsbar.com
SUMMARY:BINGO NIGHT
DESCRIPTION:RESERVE YOUR TABLE
URL:https://mcwethyssportsbar.com/event/bingo-night/2027-04-13/
LOCATION:McWethy’s Sports Bar\, 730 N Bolingbrook Drive\, Bolingbrook\, Illinois\, 60490\, United States
END:VEVENT
BEGIN:VEVENT
DTSTART;TZID=UTC:20270414T190000
DTEND;TZID=UTC:20270414T210000
DTSTAMP:20260423T041450
CREATED:20260212T203112Z
LAST-MODIFIED:20260212T203308Z
UID:10000592-1807729200-1807736400@mcwethyssportsbar.com
SUMMARY:GENERAL KNOWLEDGE TRIVIA NIGHT
DESCRIPTION:RESERVE YOUR TABLE
URL:https://mcwethyssportsbar.com/event/general-knowledge-trivia-night/2027-04-14/
LOCATION:McWethy’s Sports Bar\, 730 N Bolingbrook Drive\, Bolingbrook\, Illinois\, 60490\, United States
END:VEVENT
END:VCALENDAR