BEGIN:VCALENDAR
VERSION:2.0
PRODID:-//McWethy&#039;s Sports Bar - Bolingbrook, IL - ECPv6.15.20//NONSGML v1.0//EN
CALSCALE:GREGORIAN
METHOD:PUBLISH
X-WR-CALNAME:McWethy&#039;s Sports Bar - Bolingbrook, IL
X-ORIGINAL-URL:https://mcwethyssportsbar.com
X-WR-CALDESC:Events for McWethy&#039;s Sports Bar - Bolingbrook, IL
REFRESH-INTERVAL;VALUE=DURATION:PT1H
X-Robots-Tag:noindex
X-PUBLISHED-TTL:PT1H
BEGIN:VTIMEZONE
TZID:UTC
BEGIN:STANDARD
TZOFFSETFROM:+0000
TZOFFSETTO:+0000
TZNAME:UTC
DTSTART:20260101T000000
END:STANDARD
END:VTIMEZONE
BEGIN:VEVENT
DTSTART;TZID=UTC:20270316T190000
DTEND;TZID=UTC:20270316T210000
DTSTAMP:20260423T024118
CREATED:20260212T201248Z
LAST-MODIFIED:20260212T202603Z
UID:10000066-1805223600-1805230800@mcwethyssportsbar.com
SUMMARY:BINGO NIGHT
DESCRIPTION:RESERVE YOUR TABLE
URL:https://mcwethyssportsbar.com/event/bingo-night/2027-03-16/
LOCATION:McWethy’s Sports Bar\, 730 N Bolingbrook Drive\, Bolingbrook\, Illinois\, 60490\, United States
END:VEVENT
BEGIN:VEVENT
DTSTART;TZID=UTC:20270317T190000
DTEND;TZID=UTC:20270317T210000
DTSTAMP:20260423T024118
CREATED:20260212T203112Z
LAST-MODIFIED:20260212T203308Z
UID:10000588-1805310000-1805317200@mcwethyssportsbar.com
SUMMARY:GENERAL KNOWLEDGE TRIVIA NIGHT
DESCRIPTION:RESERVE YOUR TABLE
URL:https://mcwethyssportsbar.com/event/general-knowledge-trivia-night/2027-03-17/
LOCATION:McWethy’s Sports Bar\, 730 N Bolingbrook Drive\, Bolingbrook\, Illinois\, 60490\, United States
END:VEVENT
BEGIN:VEVENT
DTSTART;TZID=UTC:20270323T190000
DTEND;TZID=UTC:20270323T210000
DTSTAMP:20260423T024118
CREATED:20260212T201248Z
LAST-MODIFIED:20260212T202603Z
UID:10000067-1805828400-1805835600@mcwethyssportsbar.com
SUMMARY:BINGO NIGHT
DESCRIPTION:RESERVE YOUR TABLE
URL:https://mcwethyssportsbar.com/event/bingo-night/2027-03-23/
LOCATION:McWethy’s Sports Bar\, 730 N Bolingbrook Drive\, Bolingbrook\, Illinois\, 60490\, United States
END:VEVENT
BEGIN:VEVENT
DTSTART;TZID=UTC:20270324T190000
DTEND;TZID=UTC:20270324T210000
DTSTAMP:20260423T024118
CREATED:20260212T203112Z
LAST-MODIFIED:20260212T203308Z
UID:10000589-1805914800-1805922000@mcwethyssportsbar.com
SUMMARY:GENERAL KNOWLEDGE TRIVIA NIGHT
DESCRIPTION:RESERVE YOUR TABLE
URL:https://mcwethyssportsbar.com/event/general-knowledge-trivia-night/2027-03-24/
LOCATION:McWethy’s Sports Bar\, 730 N Bolingbrook Drive\, Bolingbrook\, Illinois\, 60490\, United States
END:VEVENT
BEGIN:VEVENT
DTSTART;TZID=UTC:20270330T190000
DTEND;TZID=UTC:20270330T210000
DTSTAMP:20260423T024118
CREATED:20260212T201248Z
LAST-MODIFIED:20260212T202603Z
UID:10000068-1806433200-1806440400@mcwethyssportsbar.com
SUMMARY:BINGO NIGHT
DESCRIPTION:RESERVE YOUR TABLE
URL:https://mcwethyssportsbar.com/event/bingo-night/2027-03-30/
LOCATION:McWethy’s Sports Bar\, 730 N Bolingbrook Drive\, Bolingbrook\, Illinois\, 60490\, United States
END:VEVENT
BEGIN:VEVENT
DTSTART;TZID=UTC:20270331T190000
DTEND;TZID=UTC:20270331T210000
DTSTAMP:20260423T024118
CREATED:20260212T203112Z
LAST-MODIFIED:20260212T203308Z
UID:10000590-1806519600-1806526800@mcwethyssportsbar.com
SUMMARY:GENERAL KNOWLEDGE TRIVIA NIGHT
DESCRIPTION:RESERVE YOUR TABLE
URL:https://mcwethyssportsbar.com/event/general-knowledge-trivia-night/2027-03-31/
LOCATION:McWethy’s Sports Bar\, 730 N Bolingbrook Drive\, Bolingbrook\, Illinois\, 60490\, United States
END:VEVENT
BEGIN:VEVENT
DTSTART;TZID=UTC:20270406T190000
DTEND;TZID=UTC:20270406T210000
DTSTAMP:20260423T024118
CREATED:20260212T201248Z
LAST-MODIFIED:20260212T202603Z
UID:10000069-1807038000-1807045200@mcwethyssportsbar.com
SUMMARY:BINGO NIGHT
DESCRIPTION:RESERVE YOUR TABLE
URL:https://mcwethyssportsbar.com/event/bingo-night/2027-04-06/
LOCATION:McWethy’s Sports Bar\, 730 N Bolingbrook Drive\, Bolingbrook\, Illinois\, 60490\, United States
END:VEVENT
BEGIN:VEVENT
DTSTART;TZID=UTC:20270407T190000
DTEND;TZID=UTC:20270407T210000
DTSTAMP:20260423T024118
CREATED:20260212T203112Z
LAST-MODIFIED:20260212T203308Z
UID:10000591-1807124400-1807131600@mcwethyssportsbar.com
SUMMARY:GENERAL KNOWLEDGE TRIVIA NIGHT
DESCRIPTION:RESERVE YOUR TABLE
URL:https://mcwethyssportsbar.com/event/general-knowledge-trivia-night/2027-04-07/
LOCATION:McWethy’s Sports Bar\, 730 N Bolingbrook Drive\, Bolingbrook\, Illinois\, 60490\, United States
END:VEVENT
BEGIN:VEVENT
DTSTART;TZID=UTC:20270413T190000
DTEND;TZID=UTC:20270413T210000
DTSTAMP:20260423T024118
CREATED:20260212T201248Z
LAST-MODIFIED:20260212T202603Z
UID:10000070-1807642800-1807650000@mcwethyssportsbar.com
SUMMARY:BINGO NIGHT
DESCRIPTION:RESERVE YOUR TABLE
URL:https://mcwethyssportsbar.com/event/bingo-night/2027-04-13/
LOCATION:McWethy’s Sports Bar\, 730 N Bolingbrook Drive\, Bolingbrook\, Illinois\, 60490\, United States
END:VEVENT
BEGIN:VEVENT
DTSTART;TZID=UTC:20270414T190000
DTEND;TZID=UTC:20270414T210000
DTSTAMP:20260423T024118
CREATED:20260212T203112Z
LAST-MODIFIED:20260212T203308Z
UID:10000592-1807729200-1807736400@mcwethyssportsbar.com
SUMMARY:GENERAL KNOWLEDGE TRIVIA NIGHT
DESCRIPTION:RESERVE YOUR TABLE
URL:https://mcwethyssportsbar.com/event/general-knowledge-trivia-night/2027-04-14/
LOCATION:McWethy’s Sports Bar\, 730 N Bolingbrook Drive\, Bolingbrook\, Illinois\, 60490\, United States
END:VEVENT
BEGIN:VEVENT
DTSTART;TZID=UTC:20270420T190000
DTEND;TZID=UTC:20270420T210000
DTSTAMP:20260423T024118
CREATED:20260212T201248Z
LAST-MODIFIED:20260212T202603Z
UID:10000071-1808247600-1808254800@mcwethyssportsbar.com
SUMMARY:BINGO NIGHT
DESCRIPTION:RESERVE YOUR TABLE
URL:https://mcwethyssportsbar.com/event/bingo-night/2027-04-20/
LOCATION:McWethy’s Sports Bar\, 730 N Bolingbrook Drive\, Bolingbrook\, Illinois\, 60490\, United States
END:VEVENT
BEGIN:VEVENT
DTSTART;TZID=UTC:20270421T190000
DTEND;TZID=UTC:20270421T210000
DTSTAMP:20260423T024118
CREATED:20260212T203112Z
LAST-MODIFIED:20260212T203308Z
UID:10000593-1808334000-1808341200@mcwethyssportsbar.com
SUMMARY:GENERAL KNOWLEDGE TRIVIA NIGHT
DESCRIPTION:RESERVE YOUR TABLE
URL:https://mcwethyssportsbar.com/event/general-knowledge-trivia-night/2027-04-21/
LOCATION:McWethy’s Sports Bar\, 730 N Bolingbrook Drive\, Bolingbrook\, Illinois\, 60490\, United States
END:VEVENT
BEGIN:VEVENT
DTSTART;TZID=UTC:20270427T190000
DTEND;TZID=UTC:20270427T210000
DTSTAMP:20260423T024118
CREATED:20260212T201248Z
LAST-MODIFIED:20260212T202603Z
UID:10000072-1808852400-1808859600@mcwethyssportsbar.com
SUMMARY:BINGO NIGHT
DESCRIPTION:RESERVE YOUR TABLE
URL:https://mcwethyssportsbar.com/event/bingo-night/2027-04-27/
LOCATION:McWethy’s Sports Bar\, 730 N Bolingbrook Drive\, Bolingbrook\, Illinois\, 60490\, United States
END:VEVENT
BEGIN:VEVENT
DTSTART;TZID=UTC:20270428T190000
DTEND;TZID=UTC:20270428T210000
DTSTAMP:20260423T024118
CREATED:20260212T203112Z
LAST-MODIFIED:20260212T203308Z
UID:10000594-1808938800-1808946000@mcwethyssportsbar.com
SUMMARY:GENERAL KNOWLEDGE TRIVIA NIGHT
DESCRIPTION:RESERVE YOUR TABLE
URL:https://mcwethyssportsbar.com/event/general-knowledge-trivia-night/2027-04-28/
LOCATION:McWethy’s Sports Bar\, 730 N Bolingbrook Drive\, Bolingbrook\, Illinois\, 60490\, United States
END:VEVENT
BEGIN:VEVENT
DTSTART;TZID=UTC:20270504T190000
DTEND;TZID=UTC:20270504T210000
DTSTAMP:20260423T024118
CREATED:20260212T201248Z
LAST-MODIFIED:20260212T202603Z
UID:10000073-1809457200-1809464400@mcwethyssportsbar.com
SUMMARY:BINGO NIGHT
DESCRIPTION:RESERVE YOUR TABLE
URL:https://mcwethyssportsbar.com/event/bingo-night/2027-05-04/
LOCATION:McWethy’s Sports Bar\, 730 N Bolingbrook Drive\, Bolingbrook\, Illinois\, 60490\, United States
END:VEVENT
BEGIN:VEVENT
DTSTART;TZID=UTC:20270505T190000
DTEND;TZID=UTC:20270505T210000
DTSTAMP:20260423T024118
CREATED:20260212T203112Z
LAST-MODIFIED:20260212T203308Z
UID:10000595-1809543600-1809550800@mcwethyssportsbar.com
SUMMARY:GENERAL KNOWLEDGE TRIVIA NIGHT
DESCRIPTION:RESERVE YOUR TABLE
URL:https://mcwethyssportsbar.com/event/general-knowledge-trivia-night/2027-05-05/
LOCATION:McWethy’s Sports Bar\, 730 N Bolingbrook Drive\, Bolingbrook\, Illinois\, 60490\, United States
END:VEVENT
BEGIN:VEVENT
DTSTART;TZID=UTC:20270511T190000
DTEND;TZID=UTC:20270511T210000
DTSTAMP:20260423T024118
CREATED:20260212T201248Z
LAST-MODIFIED:20260212T202603Z
UID:10000074-1810062000-1810069200@mcwethyssportsbar.com
SUMMARY:BINGO NIGHT
DESCRIPTION:RESERVE YOUR TABLE
URL:https://mcwethyssportsbar.com/event/bingo-night/2027-05-11/
LOCATION:McWethy’s Sports Bar\, 730 N Bolingbrook Drive\, Bolingbrook\, Illinois\, 60490\, United States
END:VEVENT
BEGIN:VEVENT
DTSTART;TZID=UTC:20270512T190000
DTEND;TZID=UTC:20270512T210000
DTSTAMP:20260423T024118
CREATED:20260212T203112Z
LAST-MODIFIED:20260212T203308Z
UID:10000596-1810148400-1810155600@mcwethyssportsbar.com
SUMMARY:GENERAL KNOWLEDGE TRIVIA NIGHT
DESCRIPTION:RESERVE YOUR TABLE
URL:https://mcwethyssportsbar.com/event/general-knowledge-trivia-night/2027-05-12/
LOCATION:McWethy’s Sports Bar\, 730 N Bolingbrook Drive\, Bolingbrook\, Illinois\, 60490\, United States
END:VEVENT
BEGIN:VEVENT
DTSTART;TZID=UTC:20270518T190000
DTEND;TZID=UTC:20270518T210000
DTSTAMP:20260423T024118
CREATED:20260212T201248Z
LAST-MODIFIED:20260212T202603Z
UID:10000075-1810666800-1810674000@mcwethyssportsbar.com
SUMMARY:BINGO NIGHT
DESCRIPTION:RESERVE YOUR TABLE
URL:https://mcwethyssportsbar.com/event/bingo-night/2027-05-18/
LOCATION:McWethy’s Sports Bar\, 730 N Bolingbrook Drive\, Bolingbrook\, Illinois\, 60490\, United States
END:VEVENT
BEGIN:VEVENT
DTSTART;TZID=UTC:20270519T190000
DTEND;TZID=UTC:20270519T210000
DTSTAMP:20260423T024118
CREATED:20260212T203112Z
LAST-MODIFIED:20260212T203308Z
UID:10000597-1810753200-1810760400@mcwethyssportsbar.com
SUMMARY:GENERAL KNOWLEDGE TRIVIA NIGHT
DESCRIPTION:RESERVE YOUR TABLE
URL:https://mcwethyssportsbar.com/event/general-knowledge-trivia-night/2027-05-19/
LOCATION:McWethy’s Sports Bar\, 730 N Bolingbrook Drive\, Bolingbrook\, Illinois\, 60490\, United States
END:VEVENT
BEGIN:VEVENT
DTSTART;TZID=UTC:20270525T190000
DTEND;TZID=UTC:20270525T210000
DTSTAMP:20260423T024118
CREATED:20260212T201248Z
LAST-MODIFIED:20260212T202603Z
UID:10000076-1811271600-1811278800@mcwethyssportsbar.com
SUMMARY:BINGO NIGHT
DESCRIPTION:RESERVE YOUR TABLE
URL:https://mcwethyssportsbar.com/event/bingo-night/2027-05-25/
LOCATION:McWethy’s Sports Bar\, 730 N Bolingbrook Drive\, Bolingbrook\, Illinois\, 60490\, United States
END:VEVENT
BEGIN:VEVENT
DTSTART;TZID=UTC:20270526T190000
DTEND;TZID=UTC:20270526T210000
DTSTAMP:20260423T024118
CREATED:20260212T203112Z
LAST-MODIFIED:20260212T203308Z
UID:10000598-1811358000-1811365200@mcwethyssportsbar.com
SUMMARY:GENERAL KNOWLEDGE TRIVIA NIGHT
DESCRIPTION:RESERVE YOUR TABLE
URL:https://mcwethyssportsbar.com/event/general-knowledge-trivia-night/2027-05-26/
LOCATION:McWethy’s Sports Bar\, 730 N Bolingbrook Drive\, Bolingbrook\, Illinois\, 60490\, United States
END:VEVENT
BEGIN:VEVENT
DTSTART;TZID=UTC:20270601T190000
DTEND;TZID=UTC:20270601T210000
DTSTAMP:20260423T024118
CREATED:20260212T201248Z
LAST-MODIFIED:20260212T202603Z
UID:10000077-1811876400-1811883600@mcwethyssportsbar.com
SUMMARY:BINGO NIGHT
DESCRIPTION:RESERVE YOUR TABLE
URL:https://mcwethyssportsbar.com/event/bingo-night/2027-06-01/
LOCATION:McWethy’s Sports Bar\, 730 N Bolingbrook Drive\, Bolingbrook\, Illinois\, 60490\, United States
END:VEVENT
BEGIN:VEVENT
DTSTART;TZID=UTC:20270602T190000
DTEND;TZID=UTC:20270602T210000
DTSTAMP:20260423T024118
CREATED:20260212T203112Z
LAST-MODIFIED:20260212T203308Z
UID:10000599-1811962800-1811970000@mcwethyssportsbar.com
SUMMARY:GENERAL KNOWLEDGE TRIVIA NIGHT
DESCRIPTION:RESERVE YOUR TABLE
URL:https://mcwethyssportsbar.com/event/general-knowledge-trivia-night/2027-06-02/
LOCATION:McWethy’s Sports Bar\, 730 N Bolingbrook Drive\, Bolingbrook\, Illinois\, 60490\, United States
END:VEVENT
BEGIN:VEVENT
DTSTART;TZID=UTC:20270608T190000
DTEND;TZID=UTC:20270608T210000
DTSTAMP:20260423T024118
CREATED:20260212T201248Z
LAST-MODIFIED:20260212T202603Z
UID:10000078-1812481200-1812488400@mcwethyssportsbar.com
SUMMARY:BINGO NIGHT
DESCRIPTION:RESERVE YOUR TABLE
URL:https://mcwethyssportsbar.com/event/bingo-night/2027-06-08/
LOCATION:McWethy’s Sports Bar\, 730 N Bolingbrook Drive\, Bolingbrook\, Illinois\, 60490\, United States
END:VEVENT
BEGIN:VEVENT
DTSTART;TZID=UTC:20270609T190000
DTEND;TZID=UTC:20270609T210000
DTSTAMP:20260423T024118
CREATED:20260212T203112Z
LAST-MODIFIED:20260212T203308Z
UID:10000600-1812567600-1812574800@mcwethyssportsbar.com
SUMMARY:GENERAL KNOWLEDGE TRIVIA NIGHT
DESCRIPTION:RESERVE YOUR TABLE
URL:https://mcwethyssportsbar.com/event/general-knowledge-trivia-night/2027-06-09/
LOCATION:McWethy’s Sports Bar\, 730 N Bolingbrook Drive\, Bolingbrook\, Illinois\, 60490\, United States
END:VEVENT
BEGIN:VEVENT
DTSTART;TZID=UTC:20270615T190000
DTEND;TZID=UTC:20270615T210000
DTSTAMP:20260423T024118
CREATED:20260212T201248Z
LAST-MODIFIED:20260212T202603Z
UID:10000079-1813086000-1813093200@mcwethyssportsbar.com
SUMMARY:BINGO NIGHT
DESCRIPTION:RESERVE YOUR TABLE
URL:https://mcwethyssportsbar.com/event/bingo-night/2027-06-15/
LOCATION:McWethy’s Sports Bar\, 730 N Bolingbrook Drive\, Bolingbrook\, Illinois\, 60490\, United States
END:VEVENT
BEGIN:VEVENT
DTSTART;TZID=UTC:20270616T190000
DTEND;TZID=UTC:20270616T210000
DTSTAMP:20260423T024118
CREATED:20260212T203112Z
LAST-MODIFIED:20260212T203308Z
UID:10000601-1813172400-1813179600@mcwethyssportsbar.com
SUMMARY:GENERAL KNOWLEDGE TRIVIA NIGHT
DESCRIPTION:RESERVE YOUR TABLE
URL:https://mcwethyssportsbar.com/event/general-knowledge-trivia-night/2027-06-16/
LOCATION:McWethy’s Sports Bar\, 730 N Bolingbrook Drive\, Bolingbrook\, Illinois\, 60490\, United States
END:VEVENT
BEGIN:VEVENT
DTSTART;TZID=UTC:20270622T190000
DTEND;TZID=UTC:20270622T210000
DTSTAMP:20260423T024118
CREATED:20260212T201248Z
LAST-MODIFIED:20260212T202603Z
UID:10000080-1813690800-1813698000@mcwethyssportsbar.com
SUMMARY:BINGO NIGHT
DESCRIPTION:RESERVE YOUR TABLE
URL:https://mcwethyssportsbar.com/event/bingo-night/2027-06-22/
LOCATION:McWethy’s Sports Bar\, 730 N Bolingbrook Drive\, Bolingbrook\, Illinois\, 60490\, United States
END:VEVENT
BEGIN:VEVENT
DTSTART;TZID=UTC:20270623T190000
DTEND;TZID=UTC:20270623T210000
DTSTAMP:20260423T024118
CREATED:20260212T203112Z
LAST-MODIFIED:20260212T203308Z
UID:10000602-1813777200-1813784400@mcwethyssportsbar.com
SUMMARY:GENERAL KNOWLEDGE TRIVIA NIGHT
DESCRIPTION:RESERVE YOUR TABLE
URL:https://mcwethyssportsbar.com/event/general-knowledge-trivia-night/2027-06-23/
LOCATION:McWethy’s Sports Bar\, 730 N Bolingbrook Drive\, Bolingbrook\, Illinois\, 60490\, United States
END:VEVENT
END:VCALENDAR