BEGIN:VCALENDAR
VERSION:2.0
PRODID:-//McWethy&#039;s Sports Bar - Bolingbrook, IL - ECPv6.15.20//NONSGML v1.0//EN
CALSCALE:GREGORIAN
METHOD:PUBLISH
X-WR-CALNAME:McWethy&#039;s Sports Bar - Bolingbrook, IL
X-ORIGINAL-URL:https://mcwethyssportsbar.com
X-WR-CALDESC:Events for McWethy&#039;s Sports Bar - Bolingbrook, IL
REFRESH-INTERVAL;VALUE=DURATION:PT1H
X-Robots-Tag:noindex
X-PUBLISHED-TTL:PT1H
BEGIN:VTIMEZONE
TZID:UTC
BEGIN:STANDARD
TZOFFSETFROM:+0000
TZOFFSETTO:+0000
TZNAME:UTC
DTSTART:20250101T000000
END:STANDARD
END:VTIMEZONE
BEGIN:VEVENT
DTSTART;TZID=UTC:20260428T190000
DTEND;TZID=UTC:20260428T210000
DTSTAMP:20260422T100727
CREATED:20260212T201248Z
LAST-MODIFIED:20260212T202603Z
UID:10000020-1777402800-1777410000@mcwethyssportsbar.com
SUMMARY:BINGO NIGHT
DESCRIPTION:RESERVE YOUR TABLE
URL:https://mcwethyssportsbar.com/event/bingo-night/2026-04-28/
LOCATION:McWethy’s Sports Bar\, 730 N Bolingbrook Drive\, Bolingbrook\, Illinois\, 60490\, United States
END:VEVENT
BEGIN:VEVENT
DTSTART;TZID=UTC:20260505T190000
DTEND;TZID=UTC:20260505T210000
DTSTAMP:20260422T100728
CREATED:20260212T201248Z
LAST-MODIFIED:20260212T202603Z
UID:10000021-1778007600-1778014800@mcwethyssportsbar.com
SUMMARY:BINGO NIGHT
DESCRIPTION:RESERVE YOUR TABLE
URL:https://mcwethyssportsbar.com/event/bingo-night/2026-05-05/
LOCATION:McWethy’s Sports Bar\, 730 N Bolingbrook Drive\, Bolingbrook\, Illinois\, 60490\, United States
END:VEVENT
BEGIN:VEVENT
DTSTART;TZID=UTC:20260512T190000
DTEND;TZID=UTC:20260512T210000
DTSTAMP:20260422T100728
CREATED:20260212T201248Z
LAST-MODIFIED:20260212T202603Z
UID:10000022-1778612400-1778619600@mcwethyssportsbar.com
SUMMARY:BINGO NIGHT
DESCRIPTION:RESERVE YOUR TABLE
URL:https://mcwethyssportsbar.com/event/bingo-night/2026-05-12/
LOCATION:McWethy’s Sports Bar\, 730 N Bolingbrook Drive\, Bolingbrook\, Illinois\, 60490\, United States
END:VEVENT
BEGIN:VEVENT
DTSTART;TZID=UTC:20260519T190000
DTEND;TZID=UTC:20260519T210000
DTSTAMP:20260422T100728
CREATED:20260212T201248Z
LAST-MODIFIED:20260212T202603Z
UID:10000023-1779217200-1779224400@mcwethyssportsbar.com
SUMMARY:BINGO NIGHT
DESCRIPTION:RESERVE YOUR TABLE
URL:https://mcwethyssportsbar.com/event/bingo-night/2026-05-19/
LOCATION:McWethy’s Sports Bar\, 730 N Bolingbrook Drive\, Bolingbrook\, Illinois\, 60490\, United States
END:VEVENT
BEGIN:VEVENT
DTSTART;TZID=UTC:20260526T190000
DTEND;TZID=UTC:20260526T210000
DTSTAMP:20260422T100728
CREATED:20260212T201248Z
LAST-MODIFIED:20260212T202603Z
UID:10000024-1779822000-1779829200@mcwethyssportsbar.com
SUMMARY:BINGO NIGHT
DESCRIPTION:RESERVE YOUR TABLE
URL:https://mcwethyssportsbar.com/event/bingo-night/2026-05-26/
LOCATION:McWethy’s Sports Bar\, 730 N Bolingbrook Drive\, Bolingbrook\, Illinois\, 60490\, United States
END:VEVENT
BEGIN:VEVENT
DTSTART;TZID=UTC:20260602T190000
DTEND;TZID=UTC:20260602T210000
DTSTAMP:20260422T100728
CREATED:20260212T201248Z
LAST-MODIFIED:20260212T202603Z
UID:10000025-1780426800-1780434000@mcwethyssportsbar.com
SUMMARY:BINGO NIGHT
DESCRIPTION:RESERVE YOUR TABLE
URL:https://mcwethyssportsbar.com/event/bingo-night/2026-06-02/
LOCATION:McWethy’s Sports Bar\, 730 N Bolingbrook Drive\, Bolingbrook\, Illinois\, 60490\, United States
END:VEVENT
BEGIN:VEVENT
DTSTART;TZID=UTC:20260609T190000
DTEND;TZID=UTC:20260609T210000
DTSTAMP:20260422T100728
CREATED:20260212T201248Z
LAST-MODIFIED:20260212T202603Z
UID:10000026-1781031600-1781038800@mcwethyssportsbar.com
SUMMARY:BINGO NIGHT
DESCRIPTION:RESERVE YOUR TABLE
URL:https://mcwethyssportsbar.com/event/bingo-night/2026-06-09/
LOCATION:McWethy’s Sports Bar\, 730 N Bolingbrook Drive\, Bolingbrook\, Illinois\, 60490\, United States
END:VEVENT
BEGIN:VEVENT
DTSTART;TZID=UTC:20260616T190000
DTEND;TZID=UTC:20260616T210000
DTSTAMP:20260422T100728
CREATED:20260212T201248Z
LAST-MODIFIED:20260212T202603Z
UID:10000027-1781636400-1781643600@mcwethyssportsbar.com
SUMMARY:BINGO NIGHT
DESCRIPTION:RESERVE YOUR TABLE
URL:https://mcwethyssportsbar.com/event/bingo-night/2026-06-16/
LOCATION:McWethy’s Sports Bar\, 730 N Bolingbrook Drive\, Bolingbrook\, Illinois\, 60490\, United States
END:VEVENT
BEGIN:VEVENT
DTSTART;TZID=UTC:20260623T190000
DTEND;TZID=UTC:20260623T210000
DTSTAMP:20260422T100728
CREATED:20260212T201248Z
LAST-MODIFIED:20260212T202603Z
UID:10000028-1782241200-1782248400@mcwethyssportsbar.com
SUMMARY:BINGO NIGHT
DESCRIPTION:RESERVE YOUR TABLE
URL:https://mcwethyssportsbar.com/event/bingo-night/2026-06-23/
LOCATION:McWethy’s Sports Bar\, 730 N Bolingbrook Drive\, Bolingbrook\, Illinois\, 60490\, United States
END:VEVENT
BEGIN:VEVENT
DTSTART;TZID=UTC:20260630T190000
DTEND;TZID=UTC:20260630T210000
DTSTAMP:20260422T100728
CREATED:20260212T201248Z
LAST-MODIFIED:20260212T202603Z
UID:10000029-1782846000-1782853200@mcwethyssportsbar.com
SUMMARY:BINGO NIGHT
DESCRIPTION:RESERVE YOUR TABLE
URL:https://mcwethyssportsbar.com/event/bingo-night/2026-06-30/
LOCATION:McWethy’s Sports Bar\, 730 N Bolingbrook Drive\, Bolingbrook\, Illinois\, 60490\, United States
END:VEVENT
BEGIN:VEVENT
DTSTART;TZID=UTC:20260707T190000
DTEND;TZID=UTC:20260707T210000
DTSTAMP:20260422T100728
CREATED:20260212T201248Z
LAST-MODIFIED:20260212T202603Z
UID:10000030-1783450800-1783458000@mcwethyssportsbar.com
SUMMARY:BINGO NIGHT
DESCRIPTION:RESERVE YOUR TABLE
URL:https://mcwethyssportsbar.com/event/bingo-night/2026-07-07/
LOCATION:McWethy’s Sports Bar\, 730 N Bolingbrook Drive\, Bolingbrook\, Illinois\, 60490\, United States
END:VEVENT
BEGIN:VEVENT
DTSTART;TZID=UTC:20260714T190000
DTEND;TZID=UTC:20260714T210000
DTSTAMP:20260422T100728
CREATED:20260212T201248Z
LAST-MODIFIED:20260212T202603Z
UID:10000031-1784055600-1784062800@mcwethyssportsbar.com
SUMMARY:BINGO NIGHT
DESCRIPTION:RESERVE YOUR TABLE
URL:https://mcwethyssportsbar.com/event/bingo-night/2026-07-14/
LOCATION:McWethy’s Sports Bar\, 730 N Bolingbrook Drive\, Bolingbrook\, Illinois\, 60490\, United States
END:VEVENT
BEGIN:VEVENT
DTSTART;TZID=UTC:20260721T190000
DTEND;TZID=UTC:20260721T210000
DTSTAMP:20260422T100728
CREATED:20260212T201248Z
LAST-MODIFIED:20260212T202603Z
UID:10000032-1784660400-1784667600@mcwethyssportsbar.com
SUMMARY:BINGO NIGHT
DESCRIPTION:RESERVE YOUR TABLE
URL:https://mcwethyssportsbar.com/event/bingo-night/2026-07-21/
LOCATION:McWethy’s Sports Bar\, 730 N Bolingbrook Drive\, Bolingbrook\, Illinois\, 60490\, United States
END:VEVENT
BEGIN:VEVENT
DTSTART;TZID=UTC:20260728T190000
DTEND;TZID=UTC:20260728T210000
DTSTAMP:20260422T100728
CREATED:20260212T201248Z
LAST-MODIFIED:20260212T202603Z
UID:10000033-1785265200-1785272400@mcwethyssportsbar.com
SUMMARY:BINGO NIGHT
DESCRIPTION:RESERVE YOUR TABLE
URL:https://mcwethyssportsbar.com/event/bingo-night/2026-07-28/
LOCATION:McWethy’s Sports Bar\, 730 N Bolingbrook Drive\, Bolingbrook\, Illinois\, 60490\, United States
END:VEVENT
BEGIN:VEVENT
DTSTART;TZID=UTC:20260804T190000
DTEND;TZID=UTC:20260804T210000
DTSTAMP:20260422T100728
CREATED:20260212T201248Z
LAST-MODIFIED:20260212T202603Z
UID:10000034-1785870000-1785877200@mcwethyssportsbar.com
SUMMARY:BINGO NIGHT
DESCRIPTION:RESERVE YOUR TABLE
URL:https://mcwethyssportsbar.com/event/bingo-night/2026-08-04/
LOCATION:McWethy’s Sports Bar\, 730 N Bolingbrook Drive\, Bolingbrook\, Illinois\, 60490\, United States
END:VEVENT
BEGIN:VEVENT
DTSTART;TZID=UTC:20260811T190000
DTEND;TZID=UTC:20260811T210000
DTSTAMP:20260422T100728
CREATED:20260212T201248Z
LAST-MODIFIED:20260212T202603Z
UID:10000035-1786474800-1786482000@mcwethyssportsbar.com
SUMMARY:BINGO NIGHT
DESCRIPTION:RESERVE YOUR TABLE
URL:https://mcwethyssportsbar.com/event/bingo-night/2026-08-11/
LOCATION:McWethy’s Sports Bar\, 730 N Bolingbrook Drive\, Bolingbrook\, Illinois\, 60490\, United States
END:VEVENT
BEGIN:VEVENT
DTSTART;TZID=UTC:20260818T190000
DTEND;TZID=UTC:20260818T210000
DTSTAMP:20260422T100728
CREATED:20260212T201248Z
LAST-MODIFIED:20260212T202603Z
UID:10000036-1787079600-1787086800@mcwethyssportsbar.com
SUMMARY:BINGO NIGHT
DESCRIPTION:RESERVE YOUR TABLE
URL:https://mcwethyssportsbar.com/event/bingo-night/2026-08-18/
LOCATION:McWethy’s Sports Bar\, 730 N Bolingbrook Drive\, Bolingbrook\, Illinois\, 60490\, United States
END:VEVENT
BEGIN:VEVENT
DTSTART;TZID=UTC:20260825T190000
DTEND;TZID=UTC:20260825T210000
DTSTAMP:20260422T100728
CREATED:20260212T201248Z
LAST-MODIFIED:20260212T202603Z
UID:10000037-1787684400-1787691600@mcwethyssportsbar.com
SUMMARY:BINGO NIGHT
DESCRIPTION:RESERVE YOUR TABLE
URL:https://mcwethyssportsbar.com/event/bingo-night/2026-08-25/
LOCATION:McWethy’s Sports Bar\, 730 N Bolingbrook Drive\, Bolingbrook\, Illinois\, 60490\, United States
END:VEVENT
BEGIN:VEVENT
DTSTART;TZID=UTC:20260901T190000
DTEND;TZID=UTC:20260901T210000
DTSTAMP:20260422T100728
CREATED:20260212T201248Z
LAST-MODIFIED:20260212T202603Z
UID:10000038-1788289200-1788296400@mcwethyssportsbar.com
SUMMARY:BINGO NIGHT
DESCRIPTION:RESERVE YOUR TABLE
URL:https://mcwethyssportsbar.com/event/bingo-night/2026-09-01/
LOCATION:McWethy’s Sports Bar\, 730 N Bolingbrook Drive\, Bolingbrook\, Illinois\, 60490\, United States
END:VEVENT
BEGIN:VEVENT
DTSTART;TZID=UTC:20260908T190000
DTEND;TZID=UTC:20260908T210000
DTSTAMP:20260422T100728
CREATED:20260212T201248Z
LAST-MODIFIED:20260212T202603Z
UID:10000039-1788894000-1788901200@mcwethyssportsbar.com
SUMMARY:BINGO NIGHT
DESCRIPTION:RESERVE YOUR TABLE
URL:https://mcwethyssportsbar.com/event/bingo-night/2026-09-08/
LOCATION:McWethy’s Sports Bar\, 730 N Bolingbrook Drive\, Bolingbrook\, Illinois\, 60490\, United States
END:VEVENT
BEGIN:VEVENT
DTSTART;TZID=UTC:20260915T190000
DTEND;TZID=UTC:20260915T210000
DTSTAMP:20260422T100728
CREATED:20260212T201248Z
LAST-MODIFIED:20260212T202603Z
UID:10000040-1789498800-1789506000@mcwethyssportsbar.com
SUMMARY:BINGO NIGHT
DESCRIPTION:RESERVE YOUR TABLE
URL:https://mcwethyssportsbar.com/event/bingo-night/2026-09-15/
LOCATION:McWethy’s Sports Bar\, 730 N Bolingbrook Drive\, Bolingbrook\, Illinois\, 60490\, United States
END:VEVENT
BEGIN:VEVENT
DTSTART;TZID=UTC:20260922T190000
DTEND;TZID=UTC:20260922T210000
DTSTAMP:20260422T100728
CREATED:20260212T201248Z
LAST-MODIFIED:20260212T202603Z
UID:10000041-1790103600-1790110800@mcwethyssportsbar.com
SUMMARY:BINGO NIGHT
DESCRIPTION:RESERVE YOUR TABLE
URL:https://mcwethyssportsbar.com/event/bingo-night/2026-09-22/
LOCATION:McWethy’s Sports Bar\, 730 N Bolingbrook Drive\, Bolingbrook\, Illinois\, 60490\, United States
END:VEVENT
BEGIN:VEVENT
DTSTART;TZID=UTC:20260929T190000
DTEND;TZID=UTC:20260929T210000
DTSTAMP:20260422T100728
CREATED:20260212T201248Z
LAST-MODIFIED:20260212T202603Z
UID:10000042-1790708400-1790715600@mcwethyssportsbar.com
SUMMARY:BINGO NIGHT
DESCRIPTION:RESERVE YOUR TABLE
URL:https://mcwethyssportsbar.com/event/bingo-night/2026-09-29/
LOCATION:McWethy’s Sports Bar\, 730 N Bolingbrook Drive\, Bolingbrook\, Illinois\, 60490\, United States
END:VEVENT
BEGIN:VEVENT
DTSTART;TZID=UTC:20261006T190000
DTEND;TZID=UTC:20261006T210000
DTSTAMP:20260422T100728
CREATED:20260212T201248Z
LAST-MODIFIED:20260212T202603Z
UID:10000043-1791313200-1791320400@mcwethyssportsbar.com
SUMMARY:BINGO NIGHT
DESCRIPTION:RESERVE YOUR TABLE
URL:https://mcwethyssportsbar.com/event/bingo-night/2026-10-06/
LOCATION:McWethy’s Sports Bar\, 730 N Bolingbrook Drive\, Bolingbrook\, Illinois\, 60490\, United States
END:VEVENT
BEGIN:VEVENT
DTSTART;TZID=UTC:20261013T190000
DTEND;TZID=UTC:20261013T210000
DTSTAMP:20260422T100728
CREATED:20260212T201248Z
LAST-MODIFIED:20260212T202603Z
UID:10000044-1791918000-1791925200@mcwethyssportsbar.com
SUMMARY:BINGO NIGHT
DESCRIPTION:RESERVE YOUR TABLE
URL:https://mcwethyssportsbar.com/event/bingo-night/2026-10-13/
LOCATION:McWethy’s Sports Bar\, 730 N Bolingbrook Drive\, Bolingbrook\, Illinois\, 60490\, United States
END:VEVENT
BEGIN:VEVENT
DTSTART;TZID=UTC:20261020T190000
DTEND;TZID=UTC:20261020T210000
DTSTAMP:20260422T100728
CREATED:20260212T201248Z
LAST-MODIFIED:20260212T202603Z
UID:10000045-1792522800-1792530000@mcwethyssportsbar.com
SUMMARY:BINGO NIGHT
DESCRIPTION:RESERVE YOUR TABLE
URL:https://mcwethyssportsbar.com/event/bingo-night/2026-10-20/
LOCATION:McWethy’s Sports Bar\, 730 N Bolingbrook Drive\, Bolingbrook\, Illinois\, 60490\, United States
END:VEVENT
BEGIN:VEVENT
DTSTART;TZID=UTC:20261027T190000
DTEND;TZID=UTC:20261027T210000
DTSTAMP:20260422T100728
CREATED:20260212T201248Z
LAST-MODIFIED:20260212T202603Z
UID:10000046-1793127600-1793134800@mcwethyssportsbar.com
SUMMARY:BINGO NIGHT
DESCRIPTION:RESERVE YOUR TABLE
URL:https://mcwethyssportsbar.com/event/bingo-night/2026-10-27/
LOCATION:McWethy’s Sports Bar\, 730 N Bolingbrook Drive\, Bolingbrook\, Illinois\, 60490\, United States
END:VEVENT
BEGIN:VEVENT
DTSTART;TZID=UTC:20261103T190000
DTEND;TZID=UTC:20261103T210000
DTSTAMP:20260422T100728
CREATED:20260212T201248Z
LAST-MODIFIED:20260212T202603Z
UID:10000047-1793732400-1793739600@mcwethyssportsbar.com
SUMMARY:BINGO NIGHT
DESCRIPTION:RESERVE YOUR TABLE
URL:https://mcwethyssportsbar.com/event/bingo-night/2026-11-03/
LOCATION:McWethy’s Sports Bar\, 730 N Bolingbrook Drive\, Bolingbrook\, Illinois\, 60490\, United States
END:VEVENT
BEGIN:VEVENT
DTSTART;TZID=UTC:20261110T190000
DTEND;TZID=UTC:20261110T210000
DTSTAMP:20260422T100728
CREATED:20260212T201248Z
LAST-MODIFIED:20260212T202603Z
UID:10000048-1794337200-1794344400@mcwethyssportsbar.com
SUMMARY:BINGO NIGHT
DESCRIPTION:RESERVE YOUR TABLE
URL:https://mcwethyssportsbar.com/event/bingo-night/2026-11-10/
LOCATION:McWethy’s Sports Bar\, 730 N Bolingbrook Drive\, Bolingbrook\, Illinois\, 60490\, United States
END:VEVENT
BEGIN:VEVENT
DTSTART;TZID=UTC:20261117T190000
DTEND;TZID=UTC:20261117T210000
DTSTAMP:20260422T100728
CREATED:20260212T201248Z
LAST-MODIFIED:20260212T202603Z
UID:10000049-1794942000-1794949200@mcwethyssportsbar.com
SUMMARY:BINGO NIGHT
DESCRIPTION:RESERVE YOUR TABLE
URL:https://mcwethyssportsbar.com/event/bingo-night/2026-11-17/
LOCATION:McWethy’s Sports Bar\, 730 N Bolingbrook Drive\, Bolingbrook\, Illinois\, 60490\, United States
END:VEVENT
END:VCALENDAR